BEGIN:VCALENDAR
VERSION:2.0
PRODID:-//Trinity Klein Lutheran School - ECPv6.15.20//NONSGML v1.0//EN
CALSCALE:GREGORIAN
METHOD:PUBLISH
X-WR-CALNAME:Trinity Klein Lutheran School
X-ORIGINAL-URL:https://www.tkeagles.org
X-WR-CALDESC:Events for Trinity Klein Lutheran School
REFRESH-INTERVAL;VALUE=DURATION:PT1H
X-Robots-Tag:noindex
X-PUBLISHED-TTL:PT1H
BEGIN:VTIMEZONE
TZID:America/Chicago
BEGIN:DAYLIGHT
TZOFFSETFROM:-0600
TZOFFSETTO:-0500
TZNAME:CDT
DTSTART:20250309T080000
END:DAYLIGHT
BEGIN:STANDARD
TZOFFSETFROM:-0500
TZOFFSETTO:-0600
TZNAME:CST
DTSTART:20251102T070000
END:STANDARD
BEGIN:DAYLIGHT
TZOFFSETFROM:-0600
TZOFFSETTO:-0500
TZNAME:CDT
DTSTART:20260308T080000
END:DAYLIGHT
BEGIN:STANDARD
TZOFFSETFROM:-0500
TZOFFSETTO:-0600
TZNAME:CST
DTSTART:20261101T070000
END:STANDARD
BEGIN:DAYLIGHT
TZOFFSETFROM:-0600
TZOFFSETTO:-0500
TZNAME:CDT
DTSTART:20270314T080000
END:DAYLIGHT
BEGIN:STANDARD
TZOFFSETFROM:-0500
TZOFFSETTO:-0600
TZNAME:CST
DTSTART:20271107T070000
END:STANDARD
END:VTIMEZONE
BEGIN:VEVENT
DTSTART;VALUE=DATE:20260403
DTEND;VALUE=DATE:20260404
DTSTAMP:20260419T092444
CREATED:20250604T104241Z
LAST-MODIFIED:20260403T234404Z
UID:10001707-1775174400-1775260799@www.tkeagles.org
SUMMARY:Good Friday - NO SCHOOL
DESCRIPTION:Schools:\nTrinity Lutheran School\nLocation:\nTrinity Lutheran School
URL:https://www.tkeagles.org/event/good-friday-no-school-2/
LOCATION:Trinity Lutheran School
END:VEVENT
BEGIN:VEVENT
DTSTART;VALUE=DATE:20260405
DTEND;VALUE=DATE:20260406
DTSTAMP:20260419T092444
CREATED:20250411T131142Z
LAST-MODIFIED:20260405T234424Z
UID:10001607-1775347200-1775433599@www.tkeagles.org
SUMMARY:Easter
DESCRIPTION:Location:\nTrinity Lutheran Church
URL:https://www.tkeagles.org/event/easter-3/
LOCATION:Trinity Lutheran Church
END:VEVENT
BEGIN:VEVENT
DTSTART;VALUE=DATE:20260406
DTEND;VALUE=DATE:20260407
DTSTAMP:20260419T092444
CREATED:20250604T104242Z
LAST-MODIFIED:20260406T234613Z
UID:10001708-1775433600-1775519999@www.tkeagles.org
SUMMARY:Easter Monday - NO SCHOOL
DESCRIPTION:Schools:\nTrinity Lutheran School\nLocation:\nTrinity Lutheran School
URL:https://www.tkeagles.org/event/easter-monday-no-school-2/
LOCATION:Trinity Lutheran School
END:VEVENT
BEGIN:VEVENT
DTSTART;TZID=America/Chicago:20260407T160000
DTEND;TZID=America/Chicago:20260407T173000
DTSTAMP:20260419T092444
CREATED:20251121T203141Z
LAST-MODIFIED:20260406T234614Z
UID:10001989-1775577600-1775583000@www.tkeagles.org
SUMMARY:Softball @ Cypress Christian
DESCRIPTION:Early dismissal at 2:15 PM.\nGroups:\nAthletics – Softball (Away)\nSchools:\nTrinity Lutheran School (Neutral)\nLocation:\nCypress Christian School
URL:https://www.tkeagles.org/event/softball-cypress-christian-3/
LOCATION:Cypress Christian School
END:VEVENT
BEGIN:VEVENT
DTSTART;TZID=America/Chicago:20260407T170000
DTEND;TZID=America/Chicago:20260407T190000
DTSTAMP:20260419T092444
CREATED:20251121T203142Z
LAST-MODIFIED:20260408T000129Z
UID:10001990-1775581200-1775588400@www.tkeagles.org
SUMMARY:Baseball @ Northland Christian
DESCRIPTION:Groups:\nAthletics – Baseball A (Away)\nSchools:\nTrinity Lutheran School (Neutral)\nLocation:\nNorthland Christian HS
URL:https://www.tkeagles.org/event/baseball-northland-christian/
LOCATION:Northland Christian HS
END:VEVENT
BEGIN:VEVENT
DTSTART;TZID=America/Chicago:20260409T130000
DTEND;TZID=America/Chicago:20260409T153000
DTSTAMP:20260419T092444
CREATED:20250604T104243Z
LAST-MODIFIED:20260409T092010Z
UID:10001709-1775739600-1775748600@www.tkeagles.org
SUMMARY:Spring Sports Photos
DESCRIPTION:Groups:\nAthletics – Track\nAthletics – Softball\nAthletics – Baseball B\nAthletics – Baseball A\nSchools:\nTrinity Lutheran School\nLocations:\nMS Gym\nBaseball Field
URL:https://www.tkeagles.org/event/spring-sports-photos-4/
LOCATION:MS Gym\, Baseball Field
END:VEVENT
BEGIN:VEVENT
DTSTART;TZID=America/Chicago:20260409T163000
DTEND;TZID=America/Chicago:20260409T180000
DTSTAMP:20260419T092444
CREATED:20251121T203145Z
LAST-MODIFIED:20260409T092012Z
UID:10001992-1775752200-1775757600@www.tkeagles.org
SUMMARY:Softball vs. Cypress Christian
DESCRIPTION:Groups:\nAthletics – Softball (Home)\nSchools:\nTrinity Lutheran School (Neutral)\nLocation:\nSoftball Field
URL:https://www.tkeagles.org/event/softball-vs-cypress-christian-2/
LOCATION:Softball Field
END:VEVENT
BEGIN:VEVENT
DTSTART;TZID=America/Chicago:20260409T163000
DTEND;TZID=America/Chicago:20260409T183000
DTSTAMP:20260419T092444
CREATED:20251121T203144Z
LAST-MODIFIED:20260409T092011Z
UID:10001991-1775752200-1775759400@www.tkeagles.org
SUMMARY:Baseball vs. Northland Christian
DESCRIPTION:Groups:\nAthletics – Baseball A (Home)\nSchools:\nTrinity Lutheran School (Neutral)\nLocation:\nBaseball Field
URL:https://www.tkeagles.org/event/baseball-vs-northland-christian/
LOCATION:Baseball Field
END:VEVENT
BEGIN:VEVENT
DTSTART;TZID=America/Chicago:20260409T180000
DTEND;TZID=America/Chicago:20260409T190000
DTSTAMP:20260419T092444
CREATED:20260203T120921Z
LAST-MODIFIED:20260409T092012Z
UID:10002027-1775757600-1775761200@www.tkeagles.org
SUMMARY:Cheer Parent Meeting
DESCRIPTION:Schools:\nTrinity Lutheran School\nLocation:\nChapel
URL:https://www.tkeagles.org/event/cheer-parent-meeting-3/
LOCATION:Chapel
END:VEVENT
BEGIN:VEVENT
DTSTART;TZID=America/Chicago:20260410T130000
DTEND;TZID=America/Chicago:20260410T153000
DTSTAMP:20260419T092444
CREATED:20250604T104244Z
LAST-MODIFIED:20260410T093217Z
UID:10001710-1775826000-1775835000@www.tkeagles.org
SUMMARY:Club/Group Photos
DESCRIPTION:Schools:\nTrinity Lutheran School\nLocations:\nMS Gym\nFLC Gym
URL:https://www.tkeagles.org/event/club-group-photos-3/
LOCATION:MS Gym\, FLC Gym
END:VEVENT
BEGIN:VEVENT
DTSTART;TZID=America/Chicago:20260410T150000
DTEND;TZID=America/Chicago:20260410T163000
DTSTAMP:20260419T092444
CREATED:20251121T203138Z
LAST-MODIFIED:20260410T093216Z
UID:10001988-1775833200-1775838600@www.tkeagles.org
SUMMARY:Softball @ Covenant Christian
DESCRIPTION:Early Dismissal at 1:10 PM.  Rescheduled from the April 2 rainout.\nGroups:\nAthletics – Softball (Away)\nSchools:\nTrinity Lutheran School (Neutral)\nLocation:\nCovenant Christian School
URL:https://www.tkeagles.org/event/softball-covenant-christian-2/
LOCATION:Covenant Christian School
END:VEVENT
BEGIN:VEVENT
DTSTART;TZID=America/Chicago:20260411T080000
DTEND;TZID=America/Chicago:20260411T130000
DTSTAMP:20260419T092444
CREATED:20260106T220030Z
LAST-MODIFIED:20260411T094443Z
UID:10002008-1775894400-1775912400@www.tkeagles.org
SUMMARY:Track at Kardia MS Meet
DESCRIPTION:Groups:\nAthletics – Track (Away)\nSchools:\nTrinity Lutheran School (Neutral)\nBEAR BRANCH J H (Neutral)\nLocation:\nBEAR BRANCH J H
URL:https://www.tkeagles.org/event/track-at-kardia-ms-meet-3/
LOCATION:BEAR BRANCH J H
END:VEVENT
BEGIN:VEVENT
DTSTART;TZID=America/Chicago:20260411T180000
DTEND;TZID=America/Chicago:20260411T200000
DTSTAMP:20260419T092444
CREATED:20260106T220031Z
LAST-MODIFIED:20260411T094444Z
UID:10002009-1775930400-1775937600@www.tkeagles.org
SUMMARY:8th Grade Celebration
DESCRIPTION:Schools:\nTrinity Lutheran School\nLocation:\nMS Gym
URL:https://www.tkeagles.org/event/8th-grade-celebration/
LOCATION:MS Gym
END:VEVENT
BEGIN:VEVENT
DTSTART;TZID=America/Chicago:20260413T160000
DTEND;TZID=America/Chicago:20260413T200000
DTSTAMP:20260419T092444
CREATED:20251202T231907Z
LAST-MODIFIED:20260413T100323Z
UID:10001997-1776096000-1776110400@www.tkeagles.org
SUMMARY:HAPS District Track Meet @ Cypress Christian
DESCRIPTION:Early dismissal at 1:30 PM.  Busses 102\, 104\, 105\, 106.\nGroups:\nAthletics – Track (Away)\nSchools:\nTrinity Lutheran School (Neutral)\nLocation:\n21455 Bridgeland Creek Pkwy
URL:https://www.tkeagles.org/event/haps-district-track-meet-cypress-christian/
LOCATION:21455 Bridgeland Creek Pkwy
END:VEVENT
BEGIN:VEVENT
DTSTART;TZID=America/Chicago:20260413T163000
DTEND;TZID=America/Chicago:20260413T183000
DTSTAMP:20260419T092444
CREATED:20251121T203101Z
LAST-MODIFIED:20260413T100324Z
UID:10001969-1776097800-1776105000@www.tkeagles.org
SUMMARY:Baseball vs. Rosehill Christian
DESCRIPTION:Groups:\nAthletics – Baseball A (Home)\nSchools:\nTrinity Lutheran School (Neutral)\nLocation:\nBaseball Field
URL:https://www.tkeagles.org/event/baseball-vs-rosehill-christian/
LOCATION:Baseball Field
END:VEVENT
BEGIN:VEVENT
DTSTART;TZID=America/Chicago:20260413T180000
DTEND;TZID=America/Chicago:20260413T193000
DTSTAMP:20260419T092444
CREATED:20251121T203108Z
LAST-MODIFIED:20260413T100324Z
UID:10001973-1776103200-1776108600@www.tkeagles.org
SUMMARY:Softball @ Woodlands Christian
DESCRIPTION:Groups:\nAthletics – Softball (Away)\nSchools:\nThe Woodlands Christian Academy (Neutral)\nTrinity Lutheran School (Neutral)\nLocation:\nThe Woodlands Christian Academy
URL:https://www.tkeagles.org/event/softball-woodlands-christian-2/
LOCATION:The Woodlands Christian Academy
END:VEVENT
BEGIN:VEVENT
DTSTART;TZID=America/Chicago:20260414T160000
DTEND;TZID=America/Chicago:20260414T180000
DTSTAMP:20260419T092444
CREATED:20251121T203134Z
LAST-MODIFIED:20260414T101523Z
UID:10001985-1776182400-1776189600@www.tkeagles.org
SUMMARY:Baseball @ Covenant Christian
DESCRIPTION:Early dismissal at 2:15.  Van 101. Rescheduled from the April 2 rainout.\nGroups:\nAthletics – Baseball A (Away)\nSchools:\nTrinity Lutheran School (Neutral)\nLocation:\nCovenant Christian School
URL:https://www.tkeagles.org/event/baseball-covenant-christian/
LOCATION:Covenant Christian School
END:VEVENT
BEGIN:VEVENT
DTSTART;TZID=America/Chicago:20260414T163000
DTEND;TZID=America/Chicago:20260414T173000
DTSTAMP:20260419T092444
CREATED:20251121T203131Z
LAST-MODIFIED:20260414T101525Z
UID:10001983-1776184200-1776187800@www.tkeagles.org
SUMMARY:Softball @ Rosehill Christian
DESCRIPTION:Early dismissal at 3:00 PM.\nGroups:\nAthletics – Softball (Away)\nSchools:\nTrinity Lutheran School (Neutral)\nLocation:\nDyess Park
URL:https://www.tkeagles.org/event/softball-rosehill-christian-2/
LOCATION:Dyess Park
END:VEVENT
BEGIN:VEVENT
DTSTART;TZID=America/Chicago:20260414T163000
DTEND;TZID=America/Chicago:20260414T203000
DTSTAMP:20260419T092444
CREATED:20251202T231908Z
LAST-MODIFIED:20260414T101524Z
UID:10001998-1776184200-1776198600@www.tkeagles.org
SUMMARY:HAPS District Track Meet @ Cypress Christian
DESCRIPTION:Early dismissal at 2:40 PM.  Busses 102\, 104\, 105\, 106.\nGroups:\nAthletics – Track (Away)\nSchools:\nTrinity Lutheran School (Neutral)\nLocation:\n21455 Bridgeland Creek Pkwy
URL:https://www.tkeagles.org/event/haps-district-track-meet-cypress-christian-2/
LOCATION:21455 Bridgeland Creek Pkwy
END:VEVENT
BEGIN:VEVENT
DTSTART;VALUE=DATE:20260416
DTEND;VALUE=DATE:20260417
DTSTAMP:20260419T092444
CREATED:20250701T154336Z
LAST-MODIFIED:20260415T101850Z
UID:10001745-1776297600-1776383999@www.tkeagles.org
SUMMARY:Grade Check - Grades 6-8
DESCRIPTION:Schools:\nTrinity Lutheran School\nLocation:\nTrinity Lutheran School
URL:https://www.tkeagles.org/event/grade-check-grades-6-8-7/
LOCATION:Trinity Lutheran School
END:VEVENT
BEGIN:VEVENT
DTSTART;TZID=America/Chicago:20260416T080000
DTEND;TZID=America/Chicago:20260416T150000
DTSTAMP:20260419T092444
CREATED:20260410T093223Z
LAST-MODIFIED:20260415T101850Z
UID:10002080-1776326400-1776351600@www.tkeagles.org
SUMMARY:Kindergarten Field Trip to The Houston Children's Museum
DESCRIPTION:Schools:\nTrinity Lutheran School\nLocation:\nTrinity Lutheran School
URL:https://www.tkeagles.org/event/kindergarten-field-trip-to-the-houston-childrens-museum/
LOCATION:Trinity Lutheran School
END:VEVENT
BEGIN:VEVENT
DTSTART;TZID=America/Chicago:20260416T160000
DTEND;TZID=America/Chicago:20260416T170500
DTSTAMP:20260419T092444
CREATED:20251121T203118Z
LAST-MODIFIED:20260415T101851Z
UID:10001976-1776355200-1776359100@www.tkeagles.org
SUMMARY:Softball vs. Woodlands Christian GAME 1
DESCRIPTION:Early dismissal at 2:45 so girls can change and get out to field before carline opens.  Time change to allow for double header.\nGroups:\nAthletics – Softball (Home)\nSchools:\nTrinity Lutheran School (Neutral)\nLocation:\nSoftball Field
URL:https://www.tkeagles.org/event/softball-vs-woodlands-christian-2/
LOCATION:Softball Field
END:VEVENT
BEGIN:VEVENT
DTSTART;TZID=America/Chicago:20260416T163000
DTEND;TZID=America/Chicago:20260416T180000
DTSTAMP:20260419T092444
CREATED:20251121T203102Z
LAST-MODIFIED:20260415T101852Z
UID:10001970-1776357000-1776362400@www.tkeagles.org
SUMMARY:Baseball @ Rosehill Christian GAME 1
DESCRIPTION:Early dismissal at 3:00.  Bus 106.\nGroups:\nAthletics – Baseball A (Away)\nSchools:\nRosehill Christian School (Neutral)\nTrinity Lutheran School (Neutral)\nLocation:\nRosehill Christian School
URL:https://www.tkeagles.org/event/baseball-rosehill-christian/
LOCATION:Rosehill Christian School
END:VEVENT
BEGIN:VEVENT
DTSTART;TZID=America/Chicago:20260416T171500
DTEND;TZID=America/Chicago:20260416T182000
DTSTAMP:20260419T092444
CREATED:20260414T101528Z
LAST-MODIFIED:20260415T101852Z
UID:10002084-1776359700-1776363600@www.tkeagles.org
SUMMARY:Softball vs. Woodlands Christian GAME 2
DESCRIPTION:Groups:\nAthletics – Softball (Home)\nSchools:\nTrinity Lutheran School (Neutral)\nLocation:\nSoftball Field
URL:https://www.tkeagles.org/event/softball-vs-woodlands-christian-game-2/
LOCATION:Softball Field
END:VEVENT
BEGIN:VEVENT
DTSTART;TZID=America/Chicago:20260416T180000
DTEND;TZID=America/Chicago:20260416T193000
DTSTAMP:20260419T092444
CREATED:20260414T101528Z
LAST-MODIFIED:20260415T101853Z
UID:10002085-1776362400-1776367800@www.tkeagles.org
SUMMARY:Baseball @ Rosehill Christian GAME 2
DESCRIPTION:Groups:\nAthletics – Baseball A (Away)\nSchools:\nTrinity Lutheran School (Neutral)\nRosehill Christian School (Neutral)\nLocation:\nRosehill Christian School
URL:https://www.tkeagles.org/event/baseball-rosehill-christian-game-2/
LOCATION:Rosehill Christian School
END:VEVENT
BEGIN:VEVENT
DTSTART;TZID=America/Chicago:20260418T180000
DTEND;TZID=America/Chicago:20260418T235900
DTSTAMP:20260419T092444
CREATED:20260219T150718Z
LAST-MODIFIED:20260418T110041Z
UID:10002039-1776535200-1776556740@www.tkeagles.org
SUMMARY:Aladdin Performance at CLHS
DESCRIPTION:Breakdown: TBD\nReturn: TBD\nSchools:\nCONCORDIA LUTHERAN HIGH SCHOOL\nLocation:\nCONCORDIA LUTHERAN HIGH SCHOOL
URL:https://www.tkeagles.org/event/aladdin-performance-at-clhs/
LOCATION:Concordia Lutheran High School
END:VEVENT
BEGIN:VEVENT
DTSTART;TZID=America/Chicago:20260419T150000
DTEND;TZID=America/Chicago:20260419T235900
DTSTAMP:20260419T092444
CREATED:20260219T150719Z
LAST-MODIFIED:20260419T111653Z
UID:10002040-1776610800-1776643140@www.tkeagles.org
SUMMARY:Aladdin Performance at CLHS
DESCRIPTION:Breakdown: TBD\nReturn: TBD\nSchools:\nCONCORDIA LUTHERAN HIGH SCHOOL\nLocation:\nCONCORDIA LUTHERAN HIGH SCHOOL
URL:https://www.tkeagles.org/event/aladdin-performance-at-clhs-2/
LOCATION:Concordia Lutheran High School
END:VEVENT
BEGIN:VEVENT
DTSTART;TZID=America/Chicago:20260420T153000
DTEND;TZID=America/Chicago:20260420T173000
DTSTAMP:20260419T092444
CREATED:20260203T120931Z
LAST-MODIFIED:20260419T111653Z
UID:10002028-1776699000-1776706200@www.tkeagles.org
SUMMARY:Cheer Tryout Prep
DESCRIPTION:Schools:\nTrinity Lutheran School\nLocation:\nES Gym
URL:https://www.tkeagles.org/event/cheer-tryout-prep/
LOCATION:ES Gym
END:VEVENT
BEGIN:VEVENT
DTSTART;TZID=America/Chicago:20260420T163000
DTEND;TZID=America/Chicago:20260420T180000
DTSTAMP:20260419T092444
CREATED:20251121T203150Z
LAST-MODIFIED:20260419T111654Z
UID:10001994-1776702600-1776708000@www.tkeagles.org
SUMMARY:Softball @ HAPS Playoff (if qualified)
DESCRIPTION:Groups:\nAthletics – Softball\nSchools:\nTrinity Lutheran School\nLocation:\nSoftball Field
URL:https://www.tkeagles.org/event/softball-haps-playoff-if-qualified/
LOCATION:Softball Field
END:VEVENT
BEGIN:VEVENT
DTSTART;TZID=America/Chicago:20260420T163000
DTEND;TZID=America/Chicago:20260420T183000
DTSTAMP:20260419T092444
CREATED:20251121T203149Z
LAST-MODIFIED:20260419T111654Z
UID:10001993-1776702600-1776709800@www.tkeagles.org
SUMMARY:Baseball @ HAPS Playoff (if qualified)
DESCRIPTION:Groups:\nAthletics – Baseball A\nSchools:\nTrinity Lutheran School\nLocation:\nBaseball Field
URL:https://www.tkeagles.org/event/baseball-haps-playoff-if-qualified/
LOCATION:Baseball Field
END:VEVENT
END:VCALENDAR