BEGIN:VCALENDAR
VERSION:2.0
PRODID:-//Trinity Klein Lutheran School - ECPv6.15.20//NONSGML v1.0//EN
CALSCALE:GREGORIAN
METHOD:PUBLISH
X-ORIGINAL-URL:https://www.tkeagles.org
X-WR-CALDESC:Events for Trinity Klein Lutheran School
REFRESH-INTERVAL;VALUE=DURATION:PT1H
X-Robots-Tag:noindex
X-PUBLISHED-TTL:PT1H
BEGIN:VTIMEZONE
TZID:America/Chicago
BEGIN:DAYLIGHT
TZOFFSETFROM:-0600
TZOFFSETTO:-0500
TZNAME:CDT
DTSTART:20250309T080000
END:DAYLIGHT
BEGIN:STANDARD
TZOFFSETFROM:-0500
TZOFFSETTO:-0600
TZNAME:CST
DTSTART:20251102T070000
END:STANDARD
BEGIN:DAYLIGHT
TZOFFSETFROM:-0600
TZOFFSETTO:-0500
TZNAME:CDT
DTSTART:20260308T080000
END:DAYLIGHT
BEGIN:STANDARD
TZOFFSETFROM:-0500
TZOFFSETTO:-0600
TZNAME:CST
DTSTART:20261101T070000
END:STANDARD
BEGIN:DAYLIGHT
TZOFFSETFROM:-0600
TZOFFSETTO:-0500
TZNAME:CDT
DTSTART:20270314T080000
END:DAYLIGHT
BEGIN:STANDARD
TZOFFSETFROM:-0500
TZOFFSETTO:-0600
TZNAME:CST
DTSTART:20271107T070000
END:STANDARD
END:VTIMEZONE
BEGIN:VEVENT
DTSTART;TZID=America/Chicago:20260419T150000
DTEND;TZID=America/Chicago:20260419T235900
DTSTAMP:20260419T111258
CREATED:20260219T150719Z
LAST-MODIFIED:20260419T111653Z
UID:10002040-1776610800-1776643140@www.tkeagles.org
SUMMARY:Aladdin Performance at CLHS
DESCRIPTION:Breakdown: TBD\nReturn: TBD\nSchools:\nCONCORDIA LUTHERAN HIGH SCHOOL\nLocation:\nCONCORDIA LUTHERAN HIGH SCHOOL
URL:https://www.tkeagles.org/event/aladdin-performance-at-clhs-2/
LOCATION:Concordia Lutheran High School
END:VEVENT
BEGIN:VEVENT
DTSTART;TZID=America/Chicago:20260420T153000
DTEND;TZID=America/Chicago:20260420T173000
DTSTAMP:20260419T111259
CREATED:20260203T120931Z
LAST-MODIFIED:20260419T111653Z
UID:10002028-1776699000-1776706200@www.tkeagles.org
SUMMARY:Cheer Tryout Prep
DESCRIPTION:Schools:\nTrinity Lutheran School\nLocation:\nES Gym
URL:https://www.tkeagles.org/event/cheer-tryout-prep/
LOCATION:ES Gym
END:VEVENT
BEGIN:VEVENT
DTSTART;TZID=America/Chicago:20260420T163000
DTEND;TZID=America/Chicago:20260420T180000
DTSTAMP:20260419T111259
CREATED:20251121T203150Z
LAST-MODIFIED:20260419T111654Z
UID:10001994-1776702600-1776708000@www.tkeagles.org
SUMMARY:Softball @ HAPS Playoff (if qualified)
DESCRIPTION:Groups:\nAthletics – Softball\nSchools:\nTrinity Lutheran School\nLocation:\nSoftball Field
URL:https://www.tkeagles.org/event/softball-haps-playoff-if-qualified/
LOCATION:Softball Field
END:VEVENT
BEGIN:VEVENT
DTSTART;TZID=America/Chicago:20260420T163000
DTEND;TZID=America/Chicago:20260420T183000
DTSTAMP:20260419T111259
CREATED:20251121T203149Z
LAST-MODIFIED:20260419T111654Z
UID:10001993-1776702600-1776709800@www.tkeagles.org
SUMMARY:Baseball @ HAPS Playoff (if qualified)
DESCRIPTION:Groups:\nAthletics – Baseball A\nSchools:\nTrinity Lutheran School\nLocation:\nBaseball Field
URL:https://www.tkeagles.org/event/baseball-haps-playoff-if-qualified/
LOCATION:Baseball Field
END:VEVENT
BEGIN:VEVENT
DTSTART;VALUE=DATE:20260421
DTEND;VALUE=DATE:20260422
DTSTAMP:20260419T111259
CREATED:20250701T154337Z
LAST-MODIFIED:20260419T111655Z
UID:10001746-1776729600-1776815999@www.tkeagles.org
SUMMARY:Progress Report Grade 5
DESCRIPTION:Schools:\nTrinity Lutheran School\nLocation:\nTrinity Lutheran School
URL:https://www.tkeagles.org/event/progress-report-grade-5-7/
LOCATION:Trinity Lutheran School
END:VEVENT
BEGIN:VEVENT
DTSTART;TZID=America/Chicago:20260422T153000
DTEND;TZID=America/Chicago:20260422T173000
DTSTAMP:20260419T111259
CREATED:20260203T120932Z
LAST-MODIFIED:20260419T111655Z
UID:10002029-1776871800-1776879000@www.tkeagles.org
SUMMARY:Cheer Tryout Prep
DESCRIPTION:Schools:\nTrinity Lutheran School\nLocation:\nES Gym
URL:https://www.tkeagles.org/event/cheer-tryout-prep-2/
LOCATION:ES Gym
END:VEVENT
BEGIN:VEVENT
DTSTART;TZID=America/Chicago:20260423T130000
DTEND;TZID=America/Chicago:20260423T235900
DTSTAMP:20260419T111259
CREATED:20260417T104904Z
LAST-MODIFIED:20260419T111656Z
UID:10002086-1776949200-1776988740@www.tkeagles.org
SUMMARY:3rd Grade In-House Field Trip with The Learning Zoo
DESCRIPTION:Breakdown: TBD\nReturn: TBD\nSchools:\nTrinity Lutheran School\nLocation:\nTrinity Lutheran School
URL:https://www.tkeagles.org/event/3rd-grade-in-house-field-trip-with-the-learning-zoo/
LOCATION:Trinity Lutheran School
END:VEVENT
BEGIN:VEVENT
DTSTART;TZID=America/Chicago:20260423T153000
DTEND;TZID=America/Chicago:20260423T173000
DTSTAMP:20260419T111259
CREATED:20260203T120933Z
LAST-MODIFIED:20260419T111656Z
UID:10002030-1776958200-1776965400@www.tkeagles.org
SUMMARY:Cheer Tryouts
DESCRIPTION:Schools:\nTrinity Lutheran School\nLocation:\nES Gym
URL:https://www.tkeagles.org/event/cheer-tryouts-4/
LOCATION:ES Gym
END:VEVENT
BEGIN:VEVENT
DTSTART;TZID=America/Chicago:20260423T163000
DTEND;TZID=America/Chicago:20260423T180000
DTSTAMP:20260419T111259
CREATED:20251121T203152Z
LAST-MODIFIED:20260419T111657Z
UID:10001996-1776961800-1776967200@www.tkeagles.org
SUMMARY:Softball @ HAPS Playoff (if qualified)
DESCRIPTION:Groups:\nAthletics – Softball\nSchools:\nTrinity Lutheran School\nLocation:\nSoftball Field
URL:https://www.tkeagles.org/event/softball-haps-playoff-if-qualified-2/
LOCATION:Softball Field
END:VEVENT
BEGIN:VEVENT
DTSTART;TZID=America/Chicago:20260423T163000
DTEND;TZID=America/Chicago:20260423T183000
DTSTAMP:20260419T111259
CREATED:20251121T203151Z
LAST-MODIFIED:20260419T111657Z
UID:10001995-1776961800-1776969000@www.tkeagles.org
SUMMARY:Baseball @ HAPS Playoff (if qualified)
DESCRIPTION:Groups:\nAthletics – Baseball A\nSchools:\nTrinity Lutheran School\nLocation:\nBaseball Field
URL:https://www.tkeagles.org/event/baseball-haps-playoff-if-qualified-2/
LOCATION:Baseball Field
END:VEVENT
BEGIN:VEVENT
DTSTART;VALUE=DATE:20260424
DTEND;VALUE=DATE:20260425
DTSTAMP:20260419T111259
CREATED:20250604T104245Z
LAST-MODIFIED:20260419T111658Z
UID:10001711-1776988800-1777075199@www.tkeagles.org
SUMMARY:Grades 1-4 Field Day
DESCRIPTION:Location:\nOur Savior Lutheran School
URL:https://www.tkeagles.org/event/grades-1-4-field-day-3/
LOCATION:Our Savior Lutheran School
END:VEVENT
BEGIN:VEVENT
DTSTART;VALUE=DATE:20260428
DTEND;VALUE=DATE:20260429
DTSTAMP:20260419T111259
CREATED:20250604T104246Z
LAST-MODIFIED:20260419T111658Z
UID:10001712-1777334400-1777420799@www.tkeagles.org
SUMMARY:Eagle Excellence Night
DESCRIPTION:Schools:\nTrinity Lutheran School\nLocation:\nTrinity Lutheran School
URL:https://www.tkeagles.org/event/eagle-excellence-night-4/
LOCATION:Trinity Lutheran School
END:VEVENT
END:VCALENDAR